BEGIN:VCALENDAR
VERSION:2.0
PRODID:-//aammb - Associació d&#039;Amics del Museu Marítim de Barcelona - ECPv6.15.20//NONSGML v1.0//EN
CALSCALE:GREGORIAN
METHOD:PUBLISH
X-ORIGINAL-URL:https://aammb.cat/es/
X-WR-CALDESC:Eventos para aammb - Associació d&#039;Amics del Museu Marítim de Barcelona
REFRESH-INTERVAL;VALUE=DURATION:PT1H
X-Robots-Tag:noindex
X-PUBLISHED-TTL:PT1H
BEGIN:VTIMEZONE
TZID:Europe/Madrid
BEGIN:DAYLIGHT
TZOFFSETFROM:+0100
TZOFFSETTO:+0200
TZNAME:CEST
DTSTART:20210328T010000
END:DAYLIGHT
BEGIN:STANDARD
TZOFFSETFROM:+0200
TZOFFSETTO:+0100
TZNAME:CET
DTSTART:20211031T010000
END:STANDARD
BEGIN:DAYLIGHT
TZOFFSETFROM:+0100
TZOFFSETTO:+0200
TZNAME:CEST
DTSTART:20220327T010000
END:DAYLIGHT
BEGIN:STANDARD
TZOFFSETFROM:+0200
TZOFFSETTO:+0100
TZNAME:CET
DTSTART:20221030T010000
END:STANDARD
BEGIN:DAYLIGHT
TZOFFSETFROM:+0100
TZOFFSETTO:+0200
TZNAME:CEST
DTSTART:20230326T010000
END:DAYLIGHT
BEGIN:STANDARD
TZOFFSETFROM:+0200
TZOFFSETTO:+0100
TZNAME:CET
DTSTART:20231029T010000
END:STANDARD
END:VTIMEZONE
BEGIN:VEVENT
DTSTART;TZID=Europe/Madrid:20220522T110000
DTEND;TZID=Europe/Madrid:20220522T200000
DTSTAMP:20260420T001052
CREATED:20221015T113806Z
LAST-MODIFIED:20230303T112003Z
UID:7315-1653217200-1653249600@aammb.cat
SUMMARY:Encuentro de Navegables en Girona 2022
DESCRIPTION:El próxmo domingo 22 de Mayo de 2022 celebramos la reunión de RC que cada año tiene lugar en Girona. \nEste año coincide con el 25º Aniversario del Club de Modelismo Naval de Girona y\, por tanto\, tendrá un significado especial. \nSerá una reunión entre amigos amantes de los navegables donde el compañerismo\, el intercambio de conocimientos y un buen almuerzo harán que sea todo un éxito.
URL:https://aammb.cat/es/event/encuentro-de-navegables-en-girona-2022/
LOCATION:Encuentro Navegables Girona\, Parc del Migdia\, Girona\, 17003\, España
CATEGORIES:Exposiciones y Encuentros
ATTACH;FMTTYPE=image/jpeg:https://aammb.cat/wp-content/uploads/2022/10/trobada-de-navegables-a-girona-2022-aammb.jpg
ORGANIZER;CN="Club de Modelismo Naval de Girona":MAILTO:modelismenavalgirona@gmail.com
END:VEVENT
END:VCALENDAR