BEGIN:VCALENDAR
VERSION:2.0
PRODID:-//aammb - Associació d&#039;Amics del Museu Marítim de Barcelona - ECPv6.15.20//NONSGML v1.0//EN
CALSCALE:GREGORIAN
METHOD:PUBLISH
X-ORIGINAL-URL:https://aammb.cat/es/
X-WR-CALDESC:Eventos para aammb - Associació d&#039;Amics del Museu Marítim de Barcelona
REFRESH-INTERVAL;VALUE=DURATION:PT1H
X-Robots-Tag:noindex
X-PUBLISHED-TTL:PT1H
BEGIN:VTIMEZONE
TZID:Europe/Madrid
BEGIN:DAYLIGHT
TZOFFSETFROM:+0100
TZOFFSETTO:+0200
TZNAME:CEST
DTSTART:20220327T010000
END:DAYLIGHT
BEGIN:STANDARD
TZOFFSETFROM:+0200
TZOFFSETTO:+0100
TZNAME:CET
DTSTART:20221030T010000
END:STANDARD
BEGIN:DAYLIGHT
TZOFFSETFROM:+0100
TZOFFSETTO:+0200
TZNAME:CEST
DTSTART:20230326T010000
END:DAYLIGHT
BEGIN:STANDARD
TZOFFSETFROM:+0200
TZOFFSETTO:+0100
TZNAME:CET
DTSTART:20231029T010000
END:STANDARD
BEGIN:DAYLIGHT
TZOFFSETFROM:+0100
TZOFFSETTO:+0200
TZNAME:CEST
DTSTART:20240331T010000
END:DAYLIGHT
BEGIN:STANDARD
TZOFFSETFROM:+0200
TZOFFSETTO:+0100
TZNAME:CET
DTSTART:20241027T010000
END:STANDARD
END:VTIMEZONE
BEGIN:VEVENT
DTSTART;TZID=Europe/Madrid:20230422T113000
DTEND;TZID=Europe/Madrid:20230422T130000
DTSTAMP:20260421T224207
CREATED:20230323T111142Z
LAST-MODIFIED:20230323T112007Z
UID:7586-1682163000-1682168400@aammb.cat
SUMMARY:Conferencia "Enigma"
DESCRIPTION:Próxima conferencia sobre los sistemas de comunicación de la 2ª Guerra Mundial.  \nLa Asociación de Amigos del Museo Marítimo de Barcelona le invita a la conferencia sobre el funcionamiento y utilización de la máquina de encriptación «ENIGMA». \nDurante la Segunda Guerra Mundial\, los alemanes utilizaron la que después sería la máquina de encriptar más famosa de la historia. \n \n\nUbicación:\nSala Auditori del Museu Marítim de Barcelona (MMB).
URL:https://aammb.cat/es/event/conferencia-enigma/
LOCATION:MMB (Museo Marítimo de Barcelona)\, Avinguda de les Drassanes\, s/n\, Barcelona\, Barcelona\, 08001\, Spain
CATEGORIES:Conferencias e Investigación
ATTACH;FMTTYPE=image/jpeg:https://aammb.cat/wp-content/uploads/2023/03/ENIGMA.jpg
ORGANIZER;CN="AAMMB":MAILTO:amics@mmb.cat
END:VEVENT
END:VCALENDAR